BEGIN:VCALENDAR
VERSION:2.0
BEGIN:VEVENT
URL:https://www.allenbach-hunsrueck.de/vereine/events/viewevent/98-schlosskirmes-2023 
DTSTART:20230805T180000
DTEND:20230807T234500
SUMMARY:Schloßkirmes 2023
DESCRIPTION:<p><strong><u>Programm steht noch nicht fest</u></strong></p><p><strong><u>An allen Tagen Eintritt frei !</u></strong></p>
LOCATION:49.757089, 7.164339 (Festplatz)
END:VEVENT
END:VCALENDAR