BEGIN:VCALENDAR
VERSION:2.0
BEGIN:VEVENT
URL:https://www.allenbach-hunsrueck.de/vereine/events/viewevent/97-vorstand-im-amt-bestaetigt 
DTSTART:20220512T000000
DTEND:20220531T100000
SUMMARY:Vorstand im Amt bestätigt
DESCRIPTION:<p>Anfang April hatte der Gesangverein 1873 e.V. Allenbach zur Mitgliederversammlung für die Jahre
</p><p>2020 und 2021 ins Gemeindehaus eingeladen.
</p><p>Nach der Begrüßung gedachte die Versammlung der verstorbenen Mitglieder.
</p><p>Vorsitzende Inge Burmann dankte allen Aktiven, den Chorleiterinnen, Vorstandsmitgliedern sowie 
</p><p>Kassenprüfern und Laufkassiererinnen für die gute Zusammenarbeit im zurückliegenden Zeitraum.
</p><p>Die letzten beiden Jahre stellten eine Zäsur in der lebendigen Struktur des Vereins und seiner Chöre
</p><p>dar. Es waren nur wenige Chorproben möglich und alle geplanten Veranstaltungen mussten 
</p><p>abgesagt werden.
</p><p>Anna Riotte hat die musikalische Arbeit mit dem Bambini-Chor bereits aufgenommen und erwartet
</p><p>einige Neuzugänge. Sie freut sich, mit den Jüngsten auch wieder Auftritte mitgestalten zu können.
</p><p>Beim Jugendchor ist leider ein heftiger Einbruch zu verzeichnen. 
</p><p>Chorleiterin Alisa Barth möchte nach der langen Zwangspause im Gemischten Chor sowie Kinderund Jugendchor ganz gezielt Aufbauarbeit leisten und das begonnene Jahr nutzen, um mit einigen
</p><p>Projekten zum 150-jährigen Jubiläum des Vereins in 2023 Akzente zu setzen.
</p><p>Schriftführerin Petra Marx erwähnte in ihrem kurzen Bericht den im März 2020 durch den Kreis-Chorverband Birkenfeld initiierten und vom Gesangverein Allenbach durchgeführten 
</p><p>Presseworkshop. Einen Tag später wurden alle Termine und Planungen infolge der Corona bedingten 
</p><p>Lockdowns gestoppt.
</p><p>Schatzmeisterin Ingrid Müller konnte trotz fehlender Einnahmen aus Veranstaltungen von einer noch
</p><p>zufriedenstellenden Kassenlage berichten. Die Spenden der OIE aus dem Heimatliebe-Topf, der
</p><p>Ortsgemeinde Allenbach sowie dem Chorverband Rheinland-Pfalz und nicht zuletzt die Treue der
</p><p>beitragszahlenden Mitglieder haben Schlimmeres verhütet.
</p><p>Für die Kassenprüfer bescheinigte Hannah Conrad eine einwandfreie Kassenführung
</p><p>und auf ihren Antrag erteilte die Versammlung dem Vorstand einstimmig Entlastung.
</p><p>Die anschließenden Wahlen bestätigten sowohl den geschäftsführenden als auch den erweiterten
</p><p>Vorstand. Alle Vorstandsmitglieder waren besonders im Hinblick auf das Jubiläumsjahr bereit, für 
</p><p>den Verein in den kommenden zwei Jahren Verantwortung zu übernehmen.
</p><p>Der Beginn der Chorproben ist für Mai geplant und wird gesondert bekanntgegeben.
</p><p> Neuer Vorstand
</p><p>Vorsitzende Inge Burmann
</p><p>Stellvertr. Vorsitzende Stefan Hirsch
</p><p>Schatzmeisterin Ingrid Müller
</p><p>Stellvertr. Schatzmeisterin Nadine Röper-Nitschmann
</p><p>Schriftführerin Petra Marx
</p><p>Stellvertr. Schriftführerin Nora Philippi
</p><p>Notenwarte Jutta Nitschke und Siegfried Burmann
</p><p>Laufkassiererinnen Jutta Fillmann und Nadine Röper-N.
</p><p>Kassenprüfer Timo Nitschmann und Hannah Conrad</p>
LOCATION:Allenbach Gemeindehaus
END:VEVENT
END:VCALENDAR