BEGIN:VCALENDAR
VERSION:2.0
BEGIN:VEVENT
URL:https://www.allenbach-hunsrueck.de/vereine/events/viewevent/87-st-martin 
DTSTART:20201107T170000
DTEND:20201107T220000
SUMMARY:St. Martin
DESCRIPTION:<p><em><u>Ablauf:</u></em><br /></p><p>Beginn ist um 17.00 Uhr mit einer Andacht in der Allenbacher Kirche. Der Umzug beginnt um 17.30 Uhr wieder am Feuerwehrplatz. Im Anschluss freuen wir uns auf ein gemütliches Beisammensein auf dem Dorfplatz am Feuerwehrgerätehaus mit der traditionellen Verlosung.</p>
LOCATION:49.755737, 7.165880 (Dorfplatz,Feuerwehrgerätehaus)
END:VEVENT
END:VCALENDAR