BEGIN:VCALENDAR
VERSION:2.0
BEGIN:VEVENT
URL:https://www.allenbach-hunsrueck.de/vereine/events/viewevent/85-12-allenbacher-pferderallye 
DTSTART:20200920T100000
DTEND:20200920T221500
SUMMARY:12. Allenbacher Pferderallye
DESCRIPTION:<p>Folgender Ablauf ist vorgesehen:</p><p>Eröffnet wird die Veranstaltung des Heimatvereins mit einer kleinen Andacht einschließlich Pferdesegnung um 10:00 Uhr. Während des anschließenden Geländerittes lädt der Heimatverein zu einem zünftigen Frühschoppen ein. Der folgende Trailparcours, bei dem Geschick und Konzentration von Pferd und Reiter unter Beweis gestellt werden müssen, ist auch für die Zuschauer sehr interessant. Nach Kaffee und Kuchen findet die Siegerehrung statt.  Natürlich gibt es während der ganzen Pferderallye auch leckeres vom Grill und Bratkartoffeln aus der großen, gusseisernen Pfanne.</p>
LOCATION:49.757089, 7.164339 (Festplatz)
END:VEVENT
END:VCALENDAR