BEGIN:VCALENDAR
VERSION:2.0
BEGIN:VEVENT
URL:https://www.allenbach-hunsrueck.de/vereine/events/viewevent/84-schlosskirmes-2019 
DTSTART:20200801T180000
DTEND:20200803T234500
SUMMARY:Schloßkirmes 2019
DESCRIPTION:<p><strong><u>Programm steht noch nicht fest</u></strong></p><p><strong><u>An allen Tagen Eintritt frei !</u></strong></p>
LOCATION:49.757089, 7.164339 (Festplatz)
END:VEVENT
END:VCALENDAR