BEGIN:VCALENDAR
VERSION:2.0
BEGIN:VEVENT
URL:https://www.allenbach-hunsrueck.de/vereine/events/viewevent/80-herbstfest-gesangverein-allenbach 
DTSTART:20190907T190000
DTEND:20190907T230000
SUMMARY:Herbstfest Gesangverein Allenbach
DESCRIPTION:<p>Dieses Jahr lädt der Gesangverein Allenbach zu einem Herbstkonzert ins Gemeindehaus ein. Wie jedes Jahr haben die Sängerinnen und Sänger hart geprobt, um zusammen mit den Gastchören ein abwechslungsreiches Abendprogramm bieten zu können.</p><p>Für das leibliche Wohl wird selbstverständlich gesorgt. </p><br />
LOCATION:Gemeindehaus Allenbach
END:VEVENT
END:VCALENDAR