BEGIN:VCALENDAR
VERSION:2.0
BEGIN:VEVENT
URL:https://www.allenbach-hunsrueck.de/vereine/events/viewevent/75-schlosskirmes-2019 
DTSTART:20190803T180000
DTEND:20190805T234500
SUMMARY:Schloßkirmes 2019
DESCRIPTION:<p><strong><u>Samstag 03.08.19:</u></strong></p><p>- 18:00 Fassanstich</p><p>- ab 21:00 <strong><em><u>HOT STUFF</u></em></strong> (Die Classic Rock Live-Band)</p><p><strong><u>Sonntag 04.08.19:</u></strong></p><p>- 08:00 bis 11:00 Wanderstart</p><p>- 10:45 Bikertreffen mit Gottesdienst</p><p>- 12:00 Erbsensuppe, Nachmittags Kaffee & Kuchen</p><p>- ab 12:30 Unterhaltung & gute Laune mit der Band <em><u><strong>FRÜHSCHICHT</strong></u></em></p><p><u style=""><strong style="">Montag 05.08.19:</strong></u></p><p>- 12:00 Kartoffelwurstessen</p><p>- 13:00 Spiel & Spaß für Kinder u. Jugendliche,  </p><p>             Nachmittags Kaffee & Kuchen</p><p>- ab 20:00 Tanz und Unterhaltung mit Ralf Brücher</p><p>  Dazwischen Einlagen einheimischer Künstler</p><p><b><u>An allen Tagen Eintritt frei !</u></b></p>
LOCATION:49.757089, 7.164339 (Festplatz)
END:VEVENT
END:VCALENDAR