BEGIN:VCALENDAR
VERSION:2.0
BEGIN:VEVENT
URL:https://www.allenbach-hunsrueck.de/vereine/events/viewevent/61-jahreshauptversammlung-heimatverein-e-v-2018 
DTSTART:20180224T193000
DTEND:20180224T230000
SUMMARY:Jahreshauptversammlung Heimatverein e.V. 2018
DESCRIPTION:<p><strong><u>Vorläufige Tagesordnung:
</u></strong></p>
<p><u>TOP 1: </u> Eröffnung und Begrüßung durch den 1. Vorsitzenden Siegfried Burmann
</p><p><u>TOP 2:</u>  Berichte des Vorstandes:
</p><p>        a)	1. Vorsitzender, Siegfried Burmann
</p><p>        b)	Kassenwart, Guido Steuer</p><p><u>TOP 3:</u>  Bericht der Kassenprüfer
</p><p><u>TOP 4:</u>  Entlastung des Vorstandes
</p><p><u>TOP 5:</u>  Ehrungen
</p><p><u>TOP 6:</u>  Aktivitäten des Vereins für 2017</p><p><u>TOP 7:</u>   Verschiedenes</p><p><u>TOP 8:</u>  Anträge
</p><p><u>TOP 9:</u>  Gemütliches Beisammensein</p><br />
LOCATION:55758 Allenbach, Hauptstraße 52 (Gemeindehaus)
END:VEVENT
END:VCALENDAR