BEGIN:VCALENDAR
VERSION:2.0
BEGIN:VEVENT
URL:https://www.allenbach-hunsrueck.de/vereine/events/viewevent/55-schlosskirmes-2018 
DTSTART:20180804T180000
DTEND:20180806T234500
SUMMARY:Schloßkirmes 2018
DESCRIPTION:<p><strong><u><em>Vorläufiges Programm:</em></u></strong></p><p><strong><u><em>Samstag 04.08.2018:</em></u></strong><br /></p><p>18.00 Uhr Faßanstich
</p><p>Ab 21 Uhr Classic Rock mit "<strong>HOT STUFF</strong>"</p><p><strong><u><em>Sonntag 05.08.2018:	
</em></u></strong></p><p>08.00-11.00 Uhr	Großer Wandertag mit Tombola
</p><p>10.00 Uhr Bikertreffen mit Andacht & Ausfahrt</p><p>Ab 12.00 Uhr	Erbsensuppe, Nachmittags Kaffee und Kuchen<br /></p><p>Ab 12.30 Uhr Unterhaltung & gute Laune mit der Band <strong>Frühschicht</strong></p><p>in den Pausen findet die Tombola statt</p><p><strong><u><em>Montag 06.08.2018: </em></u></strong></p><p>12.00 Uhr	Kartoffelwurstessen
</p><p>13.00 Uhr	Spiel und Spaß für Kinder und Jugendliche </p><p>organisiert vom Förderverein der KiTa Sensweiler
</p><p>Kaffee und Kuchen
</p><p>Ab 20.00 Uhr Livemusik und Tanz mit <strong>Ralf Brücher</strong></p><p>Dazwischen <strong>Einlagen einheimischer Künstler</strong>
</p><p><strong>An allen Tagen EINTRITT FREI !!
</strong></p><br />
LOCATION:49.757089, 7.164339 (Festplatz)
END:VEVENT
END:VCALENDAR