BEGIN:VCALENDAR
VERSION:2.0
BEGIN:VEVENT
URL:https://www.allenbach-hunsrueck.de/vereine/events/viewevent/54-46-ivv-wanderung 
DTSTART:20180610T060000
DTEND:20180610T170000
SUMMARY:46. IVV Wanderung
DESCRIPTION:
LOCATION:55758, Allenbach
END:VEVENT
END:VCALENDAR