BEGIN:VCALENDAR
VERSION:2.0
BEGIN:VEVENT
URL:https://www.allenbach-hunsrueck.de/vereine/events/viewevent/52-2-tages-fahrt-nach-amoeneburg-in-hessen 
DTSTART:20180908T080000
DTEND:20180909T220000
SUMMARY:2-Tages-Fahrt nach Amöneburg in Hessen 
DESCRIPTION:<p>2-Tages-Fahrt nach Amöneburg in Hessen <br /></p><p>Hier sind noch Plätze frei!</p><p>Auch Nicht-Mitglieder sind herzlich willkommen!</p><p>Ablauf:</p><p>Samstag, 8. September 2018
</p><p>
  8.00 Uhr Abfahrt in Allenbach an der Kirche
</p><p>9.30 Uhr Erreichen wir Bingen, dort wartet ein Frühstücksbuffet auf uns </p><p>
11.00 Uhr Weiterfahrt nach Marburg, dort haben wir Gelegenheit,  die Altstadt auf 
     eigene Faust zu erkunden </p><p>
15.30 Uhr Abfahrt  nach Biedenkopf zu unserem Hotel.
     Check-In im 4 Sterne Parkhotel
</p><p>19.00 Uhr Abendessen
</p><p>
Sonntag, 9. September 2018
</p><p>
Frühstück
</p><p>Besuch der Wanderung unserer Wanderfreunde Amöneburg e. V.</p><p>
Abfahrt Richtung Heimat
</p><p>Gemeinsames Abendessen in einem Restaurant in Heimatnähe
</p><p>Diese Reise wird von den Wanderfreunden bezuschusst. Der Eigenanteil für Mitglieder und Nicht-Mitglieder</p><p>beträgt p.P. 80 Euro plus 5 Euro p.P. für das Frühstück. Der Betrag wird bei Abfahrt eingesammelt. <br /></p><p>Anmeldung ist ausschließlich bei Hugo Heiß möglich. Telefon: 06786-7043.</p>
LOCATION:55758, Allenbach
END:VEVENT
END:VCALENDAR