BEGIN:VCALENDAR
VERSION:2.0
BEGIN:VEVENT
URL:https://www.allenbach-hunsrueck.de/vereine/events/viewevent/51-2-tages-fahrt-nach-wiebelsheim-in-mittelfranken 
DTSTART:20180526T080000
DTEND:20180527T220000
SUMMARY:2-Tages-Fahrt nach Wiebelsheim in Mittelfranken
DESCRIPTION:<p>2-Tages-Fahrt nach Wiebelsheim in Mittelfranken<br /></p><p>Nährere Informationen werden an der Jahreshauptversammlung </p><p>bekannt gegeben. </p>Anmeldung ist ausschließlich bei Hugo Heiß möglich.<br />
LOCATION:55758, Allenbach
END:VEVENT
END:VCALENDAR