BEGIN:VCALENDAR
VERSION:2.0
BEGIN:VEVENT
URL:https://www.allenbach-hunsrueck.de/vereine/events/viewevent/50-abschlussfahrt-der-wanderfreunde 
DTSTART:20181209T080000
DTEND:20181209T220000
SUMMARY:Abschlußfahrt der Wanderfreunde
DESCRIPTION:<p><em>Es sind noch Plätze frei!</em></p><p>Die Abschlußfahrt 2018 findet am Sonntag, 09. Dezember statt.</p><p>Abfahrt mit dem Bus ist um 8.00 Uhr in Allenbach an der Kirche. Wir besuchen die Wanderung in Grolsheim, die dieses Jahr nur am 09. Dezember stattfindet. Danach geht es mit dem Bus weiter nach Ladenburg. Hier hat jeder Teilnehmer die Möglichkeit, nach eigenem Ermessen den Nachmittag zu verbringen. Die Sehenswürdigkeiten wie z.B. der Weihnachtsmarkt in der Altstadt, das Dr. Carl-Benz Automusem oder das Carl-Benz Haus sind zentral gelegen und zu Fuß erreichbar. Den Abend lassen wir bei einem gemeinsamen Abendessen in der Nähe von Allenbach ausklingen. Der Unkostenbeitrag für Busfahrt und Startgeld beträgt 5 Euro pro Teilnehmer. <br /></p><p>Auch Nichtmitglieder sind herzlich willkommen!</p>Um Anmeldung zu dieser Fahrt wird gebeten bei C. Haag, Tel: 06786-2156.
LOCATION:55758, Allenbach
END:VEVENT
END:VCALENDAR