BEGIN:VCALENDAR
VERSION:2.0
BEGIN:VEVENT
URL:https://www.allenbach-hunsrueck.de/vereine/events/viewevent/49-busfahrt-nach-dachsenhausen 
DTSTART:20181007T080000
DTEND:20181007T160000
SUMMARY:Busfahrt nach Dachsenhausen
DESCRIPTION:<p>Busfahrt zur Wanderung nach Dachsenhausen<br /></p><p>Abfahrt ist um 8.00 Uhr an der Feuerwehr in Allenbach.</p><p>Es werden pro Teilnehmer 5,00 Euro eingesammelt. <br /></p><p>Um Anmeldung wird gebten bei C. Haag, Tel.: 06786-2156</p>
LOCATION:55758, Allenbach
END:VEVENT
END:VCALENDAR