BEGIN:VCALENDAR
VERSION:2.0
BEGIN:VEVENT
URL:https://www.allenbach-hunsrueck.de/vereine/events/viewevent/46-jahreshauptversammlung-der-wanderfreunde 
DTSTART:20180217T180000
DTEND:20180217T220000
SUMMARY:Jahreshauptversammlung der Wanderfreunde
DESCRIPTION:<p>Die Jahreshauptversammlung 2018 der Wanderfreunde Huckepack Allenbach e. V. findet am <br /></p><p>Samstag, 17. Februar 2018 um 18:00 Uhr im Gemeindehaus in Allenbach statt.</p><p>Tagesordnung:</p><p>    Begrüßung durch den 1.  Vorsitzenden</p><p>    Totengedenken</p><p>    Gemeinsames Essen</p><p>    Berichte</p><p>    Ausklang </p><p>Hierzu sind alle Mitglieder herzlich eingeladen.</p><p>Änderungen und Anträge können bis zum 10.02.2018 beim 1. Vorsitzenden eingereicht werden.<br /></p>
LOCATION:55758, Allenbach
END:VEVENT
END:VCALENDAR