BEGIN:VCALENDAR
VERSION:2.0
BEGIN:VEVENT
URL:https://www.allenbach-hunsrueck.de/vereine/events/viewevent/45-abschlussfahrt-der-wanderfreunde 
DTSTART:20171202T080000
DTEND:20171202T220000
SUMMARY:Abschlußfahrt der Wanderfreunde
DESCRIPTION:<p>Aus organisatorischen Gründen wird die Abschlussfahrt der Wanderfreunde auf den 02.12.2017 vorgezogen.</p><p>Los geht es um 8.00 Uhr in Allenbach an der Feuerwehr. Wir fahren mit dem Bus zur Wanderung nach Kirchen/Sieg.</p><p>Am späten Nachmittag besuchen wir das Weihnachtsdorf Waldbreitbach. Den Abend lassen wir bei einem gemütlichen Abendessen ausklingen. </p>Um Anmeldung wird gebeten bei C. Haag, Tel.: 06786-2156<br />
LOCATION:55758, Allenbach 
END:VEVENT
END:VCALENDAR