BEGIN:VCALENDAR
VERSION:2.0
BEGIN:VEVENT
URL:https://www.allenbach-hunsrueck.de/vereine/events/viewevent/44-sommerfest-gesangverein-2017 
DTSTART:20170701T190000
DTEND:20170702T180000
SUMMARY:Sommerfest Gesangverein 2017
DESCRIPTION:<p>Gesangverein Allenbach feiert sein Sommerfest</p><p>Der Gesangverein Allenbach lädt herzlich zum Sommerfest am 1. und 2. Juli 2017 ins Gemeindehaus Allenbach ein. Am Samstag, den 1. Juli ab 19.30 Uhr, erwartet der gastgebende Chor den Chor Vokal Line Dickesbach, den Gesangverein Morbach und den Gemischten Chor Sensweiler . Freuen Sie sich auf eine Veranstaltung mit vielen abwechslungsreichen Musikbeiträgen.</p><p>Am Sonntag, den 1. Juli laden wir ab 10.30 Uhr zu einem Frühschoppen am Bierstand im Gemeindehaus ein. Dieses Jahr übernehmen die Kinder- und Jugendchöre die musikalische Gestaltung des Sonntags. Ab  14.00 Uhr eröffnen der Gemischte Chor Allenbach zusammen mit dem Kinder- und Jugendchor das Fest. Der Kinderchor Gimbweiler,  sowie die Orgelpfeifen werden Sie im Anschluss  bestens unterhalten. Am Nachmittag gibt es Kaffee und selbstgebackenen Kuchen. An beiden Tagen ist für Ihr leibliches Wohl gesorgt. Wir freuen uns auf ein Fest bei sommerlichen Temperaturen und auf Ihr Kommen.</p><br />
LOCATION:55758 Allenbach
END:VEVENT
END:VCALENDAR