BEGIN:VCALENDAR
VERSION:2.0
BEGIN:VEVENT
URL:https://www.allenbach-hunsrueck.de/vereine/events/viewevent/43-halbjahresabschluss-der-landfrauen-termin-geaendert 
DTSTART:20170630T143000
DTEND:20170630T220000
SUMMARY:Halbjahresabschluß der Landfrauen Termin geändert
DESCRIPTION:
LOCATION:Köhlerstube Langweiler
END:VEVENT
END:VCALENDAR