BEGIN:VCALENDAR
VERSION:2.0
BEGIN:VEVENT
URL:https://www.allenbach-hunsrueck.de/vereine/events/viewevent/41-adventskonzert 
DTSTART:20171217T000000
DTEND:20171217T234500
SUMMARY:Adventskonzert
DESCRIPTION:
LOCATION:55758 Allenbach, Hauptstraße 52 (Gemeindehaus)
END:VEVENT
END:VCALENDAR