BEGIN:VCALENDAR
VERSION:2.0
BEGIN:VEVENT
URL:https://www.allenbach-hunsrueck.de/vereine/events/viewevent/40-konzert-mit-sine-nomine 
DTSTART:20171203T000000
DTEND:20171203T234500
SUMMARY:Konzert mit Sine nomine
DESCRIPTION:
LOCATION:55758 Allenbach, Hauptstraße 52 (Gemeindehaus)
END:VEVENT
END:VCALENDAR