BEGIN:VCALENDAR
VERSION:2.0
BEGIN:VEVENT
URL:https://www.allenbach-hunsrueck.de/vereine/events/viewevent/34-schlosskirmes-2017 
DTSTART:20170805T180000
DTEND:20170807T234500
SUMMARY:Schloßkirmes 2017
DESCRIPTION:<p><strong><u><em>Vorläufiges Programm:</em></u></strong></p><p><strong><u><em>Samstag 05.08.2017:</em></u></strong><br /></p><p>18.00 Uhr Faßanstich
</p><p>Ab 21.30 Uhr <strong>TONE FACTORY</strong>! DIE CLASSIC ROCK BAND AUS IDAR-OBERSTEIN! </p><p><em>Nähere Infos zur Band unter http://www.tonefactory.de</em></p><p><strong><u><em>Sonntag 06.08.2017:	
</em></u></strong></p><p>08.00-11.00 Uhr	Großer Wandertag mit Tombola
</p><p>Ab 10:00 Uhr Bikertreffen mit kleiner Ausfahrt</p><p>Ab 12.00 Uhr	Erbsensuppe, Nachmittags Kaffee und Kuchen</p><p>Ab 12.30 Uhr bis ca. 16:30 Uhr Unterhaltung mit der <strong>Band Frühschicht</strong></p><p><em>Nähere Infos zur Band unter http://www.fruehschicht-musik.de</em></p><p>Zwischendurch die traditionelle Tombola<br /></p><p><strong><u><em>Montag 07.08.2017: </em></u></strong></p><p>12.00 Uhr	Kartoffelwurstessen
</p><p>13.00 Uhr	Spiel und Spaß für Kinder und Jugendliche </p><p>organisiert vom Förderverein der KiTa Sensweiler
</p><p>Kaffee und Kuchen
</p><p>Ab 20.00 Uhr Livemusik und Tanz mit <strong>Ralf Brücher</strong></p><p>Dazwischen <strong>Einlagen einheimischer Künstler</strong>
</p><p><strong>An allen Tagen EINTRITT FREI !!
</strong></p><br />
LOCATION:49.757089, 7.164339 (Festplatz)
END:VEVENT
END:VCALENDAR