BEGIN:VCALENDAR
VERSION:2.0
BEGIN:VEVENT
URL:https://www.allenbach-hunsrueck.de/vereine/events/viewevent/31-st-martin 
DTSTART:20171111T170000
DTEND:20171111T220000
SUMMARY:St. Martin
DESCRIPTION:<p>Der Laternenumzug des Heimatvereins findet in diesem Jahr am Samstag 11.11.2017 statt. </p><p><em><u>Ablauf:</u></em></p><p>Beginn ist um 17.00 Uhr mit einer Andacht in der Allenbacher Kirche. Der Umzug beginnt um 17.30 Uhr wieder am Feuerwehrplatz. Im Anschluss freuen wir uns auf ein gemütliches Beisammensein auf dem Dorfplatz am Feuerwehrgerätehaus mit der traditionellen Verlosung von 3 Gänsen.</p>
LOCATION:49.755737, 7.165880 (Dorfplatz,Feuerwehrgerätehaus)
END:VEVENT
END:VCALENDAR