BEGIN:VCALENDAR
VERSION:2.0
BEGIN:VEVENT
URL:https://www.allenbach-hunsrueck.de/vereine/events/viewevent/3-thailaendische-kueche 
DTSTART:20160427T190000
DTEND:20160427T220000
SUMMARY:Thailändische Küche
DESCRIPTION:<p>Kochveranstaltung der Landfrauen Hochwald im Gemeindehaus Allenbach.
</p><p>Beginn 19:00 Uhr.</p><p>Anmeldung bei Ute Neumann (06786-2650) oder Rosel Geibel (06786-2370)</p><p>Änderungen werden in der Dorfschelle veröffentlicht</p>
LOCATION:55758 Allenbach, Hauptstraße 52 (Gemeindehaus)
END:VEVENT
END:VCALENDAR