BEGIN:VCALENDAR
VERSION:2.0
BEGIN:VEVENT
URL:https://www.allenbach-hunsrueck.de/vereine/events/viewevent/28-dreck-weg-tag 
DTSTART:20170408T100000
DTEND:20170408T140000
SUMMARY:Dreck-weg-Tag
DESCRIPTION:<p>Auch in diesem Jahr wollen wir den Müll den einige unbelehrbare rund um Allenbach hinterlassen haben wieder einsammeln. Treffpunkt ist am Samstag, 08.04.2017 um 10:00 Uhr auf dem Festplatz. Man sollte festes Schuhwerk und ein paar Handschuhe tragen und evtl. einen Eimer mitbringen. Nach getaner Arbeit lädt der Heimatverein wie üblich zu ein paar Würstchen und Getränken am Feuerwehrgerätehaus ein.</p>
LOCATION:49.757089, 7.164339 (Festplatz, 55758 Allenbach)
END:VEVENT
END:VCALENDAR