BEGIN:VCALENDAR
VERSION:2.0
BEGIN:VEVENT
URL:https://www.allenbach-hunsrueck.de/vereine/events/viewevent/26-jahreshauptversammlung-2017 
DTSTART:20170304T180000
DTEND:20170304T230000
SUMMARY:Jahreshauptversammlung 2017
DESCRIPTION:<p>Die Jahreshauptversammlung 2017 der Wanderfreunde Huckepack Allenbach e. V. findet am Samstag, 04. März 2017 um 18:00 Uhr im Gemeindehaus in Allenbach statt. </p><p>
<strong>

Tagesordnung:</strong> </p><p>

1.	Begrüßung durch den 1. Vorsitzenden </p><p>

2. Totengedenken </p><p>

3. Bericht des Schriftführers </p><p>

4. Bericht des Kassenwartes </p><p>

5. Bericht der Kassenprüfer
</p><p>
 6. Entlastung des Vorstandes </p><p>

7. Wahl eines Versammlungsleiters </p><p>

8. Neuwahlen Vorstand </p><p>

9. Neuwahl eines Kassenprüfers </p><p>

10. Verschiedenes und Anträge </p><p>

11. Gemeinsames Essen </p><p>

Hierzu sind alle Mitglieder herzlich eingeladen. 
</p>
LOCATION:55758 Allenbach, Hauptstraße 52 (Gemeindehaus)
END:VEVENT
END:VCALENDAR