BEGIN:VCALENDAR
VERSION:2.0
BEGIN:VEVENT
URL:https://www.allenbach-hunsrueck.de/vereine/events/viewevent/15-st-martin 
DTSTART:20161112T173000
DTEND:20161112T220000
SUMMARY:St. Martin
DESCRIPTION:<p>Der Laternenumzug des Heimatvereins findet aus organisatorischen Gründen in diesem Jahr erst am Samstag 12.11.2016 statt. </p><p><em><u>Voraussichtlicher Ablauf:</u></em></p><p>Beginn ist um 17.30 Uhr mit einer Andacht in der Allenbacher Kirche. Der Umzug beginnt um 18.00 Uhr wieder am Feuerwehrplatz. Im Anschluss freuen wir uns auf ein gemütliches Beisammensein auf dem Dorfplatz am Feuerwehrgerätehaus mit der traditionellen Verlosung von 3 Gänsen.</p>
LOCATION:49.755737, 7.165880 (Dorfplatz,Feuerwehrgerätehaus)
END:VEVENT
END:VCALENDAR