BEGIN:VCALENDAR
VERSION:2.0
BEGIN:VEVENT
URL:https://www.allenbach-hunsrueck.de/vereine/events/viewevent/14-theaterpremiere-gute-landluft-inklusive 
DTSTART:20161230T193000
DTEND:20161230T223000
SUMMARY:Theaterpremiere "Gute Landluft inklusive"
DESCRIPTION:<p>In der Gaunerkomödie in 3 Akten von Wilfried Reinehr geht es um verstrickte Beziehungen zwischen Bäuerin, Knecht, millionenschwerem Schrotthändler, Steuerhinterzieher, Heiratsschwindler, einer Nonne und weiteren Akteuren auf einem Bauernhof. Mehr wird nicht verraten. Aber es wird wieder ein lustiges, kurzweiliges Vergnügen.
</p>
Die Proben haben nach der Schloßkirmes begonnen.
LOCATION:55758 Allenbach, Hauptstraße 52 (Gemeindehaus)
END:VEVENT
END:VCALENDAR