BEGIN:VCALENDAR
VERSION:2.0
BEGIN:VEVENT
URL:https://www.allenbach-hunsrueck.de/vereine/events/viewevent/12-einweihung-brunnenplatz 
DTSTART:20160828T110000
DTEND:20160828T180000
SUMMARY:Einweihung Brunnenplatz
DESCRIPTION:<p>Beginn ist um 11:00 Uhr. Die Allenbacher Stepmääd organisieren den Tag. Für Essen und Trinken wird reichlich gesorgt sein.</p>Genaueres steht noch nicht fest
LOCATION:49.754171, 7.169215 (Brunnenplatz)
END:VEVENT
END:VCALENDAR