BEGIN:VCALENDAR
VERSION:2.0
BEGIN:VEVENT
URL:https://www.allenbach-hunsrueck.de/vereine/events/viewevent/100-helferkirmes-2023 
DTSTART:20231014T190000
DTEND:20231014T234500
SUMMARY:Helferkirmes 2023
DESCRIPTION:<p>Mit der Helferkirmes möchten wir uns bei allen, die an der Allenbacher Schlosskirmes 2019 in irgendeiner Form geholfen haben, bedanken. <br /></p><p>Wann:	 	<strong>am 17. Oktober 2020 ab 19.00 Uhr</strong>
</p><p>Wo:	 	Gemeindehaus Allenbach 
</p><p>Die entsprechenden Anmeldezettel werden rechtzeitig ausgeteilt.</p>
LOCATION:55758 Allenbach, Hauptstraße 52 (Gemeindehaus)
END:VEVENT
END:VCALENDAR